BEGIN:VCALENDAR
VERSION:2.0
PRODID:-//Sylvania Baptist Church - ECPv6.3.7//NONSGML v1.0//EN
CALSCALE:GREGORIAN
METHOD:PUBLISH
X-WR-CALNAME:Sylvania Baptist Church
X-ORIGINAL-URL:https://sylvaniabaptistchurch.com
X-WR-CALDESC:Events for Sylvania Baptist Church
REFRESH-INTERVAL;VALUE=DURATION:PT1H
X-Robots-Tag:noindex
X-PUBLISHED-TTL:PT1H
BEGIN:VTIMEZONE
TZID:UTC
BEGIN:STANDARD
TZOFFSETFROM:+0000
TZOFFSETTO:+0000
TZNAME:UTC
DTSTART:20230101T000000
END:STANDARD
END:VTIMEZONE
BEGIN:VEVENT
DTSTART;TZID=UTC:20231112T170000
DTEND;TZID=UTC:20231112T200000
DTSTAMP:20260419T155933
CREATED:20231002T020024Z
LAST-MODIFIED:20231002T020024Z
UID:539-1699808400-1699819200@sylvaniabaptistchurch.com
SUMMARY:WOM Christmas Party
DESCRIPTION:Christmas Party at Mrs. Dale’s home! \nMore details to come!
URL:https://sylvaniabaptistchurch.com/event/wom-christmas-party/
CATEGORIES:Women's Event
END:VEVENT
BEGIN:VEVENT
DTSTART;TZID=UTC:20231008T170000
DTEND;TZID=UTC:20231008T170000
DTSTAMP:20260419T155933
CREATED:20230929T195926Z
LAST-MODIFIED:20230929T195926Z
UID:496-1696784400-1696784400@sylvaniabaptistchurch.com
SUMMARY:WOM
DESCRIPTION:WOM monthly meeting in the Fellowship Hall
URL:https://sylvaniabaptistchurch.com/event/wom/
CATEGORIES:Women's Event
END:VEVENT
END:VCALENDAR