BEGIN:VCALENDAR
VERSION:2.0
PRODID:-//Sylvania Baptist Church - ECPv6.3.7//NONSGML v1.0//EN
CALSCALE:GREGORIAN
METHOD:PUBLISH
X-WR-CALNAME:Sylvania Baptist Church
X-ORIGINAL-URL:https://sylvaniabaptistchurch.com
X-WR-CALDESC:Events for Sylvania Baptist Church
REFRESH-INTERVAL;VALUE=DURATION:PT1H
X-Robots-Tag:noindex
X-PUBLISHED-TTL:PT1H
BEGIN:VTIMEZONE
TZID:UTC
BEGIN:STANDARD
TZOFFSETFROM:+0000
TZOFFSETTO:+0000
TZNAME:UTC
DTSTART:20230101T000000
END:STANDARD
END:VTIMEZONE
BEGIN:VEVENT
DTSTART;TZID=UTC:20231115T180000
DTEND;TZID=UTC:20231115T193000
DTSTAMP:20260419T140335
CREATED:20231002T020335Z
LAST-MODIFIED:20231002T020335Z
UID:541-1700071200-1700076600@sylvaniabaptistchurch.com
SUMMARY:OCC Packing Party
DESCRIPTION:Operation Christmas Child packing party!
URL:https://sylvaniabaptistchurch.com/event/occ-packing-party/
CATEGORIES:Church Wide Event,Ministry Opportunity
END:VEVENT
BEGIN:VEVENT
DTSTART;TZID=UTC:20231103T170000
DTEND;TZID=UTC:20231103T193000
DTSTAMP:20260419T140335
CREATED:20231002T015154Z
LAST-MODIFIED:20231002T015248Z
UID:532-1699030800-1699039800@sylvaniabaptistchurch.com
SUMMARY:Warming Hands and Hearts
DESCRIPTION:We plan to pass out hot chocolate as fans arrive at the Sylvania vs Fyffe football game! \nMore details to come!
URL:https://sylvaniabaptistchurch.com/event/warming-hand-and-hearts/
CATEGORIES:Church Wide Event,Ministry Opportunity
END:VEVENT
BEGIN:VEVENT
DTSTART;TZID=UTC:20231103T070000
DTEND;TZID=UTC:20231103T073000
DTSTAMP:20260419T140335
CREATED:20231002T015719Z
LAST-MODIFIED:20231002T015719Z
UID:537-1698994800-1698996600@sylvaniabaptistchurch.com
SUMMARY:Gameday Breakfast
DESCRIPTION:Gameday breakfast and devotion in the fellowship hall. \nAll SHS student athletes\, band\, cheer\, and coaching staff are welcome!
URL:https://sylvaniabaptistchurch.com/event/gameday-breakfast-2/
CATEGORIES:Ministry Opportunity,Youth Event
END:VEVENT
BEGIN:VEVENT
DTSTART;TZID=UTC:20231021T113000
DTEND;TZID=UTC:20231021T130000
DTSTAMP:20260419T140335
CREATED:20231002T014341Z
LAST-MODIFIED:20231002T022220Z
UID:530-1697887800-1697893200@sylvaniabaptistchurch.com
SUMMARY:Bread of Life Ministries
DESCRIPTION:We will be serving at the Bread of Life Ministries in Fort Payne. \nSee Jen Bell for more information or to sign up!
URL:https://sylvaniabaptistchurch.com/event/bread-of-life-ministries/
CATEGORIES:Church Wide Event,Ministry Opportunity
END:VEVENT
BEGIN:VEVENT
DTSTART;TZID=UTC:20231013T070000
DTEND;TZID=UTC:20231013T073000
DTSTAMP:20260419T140335
CREATED:20231002T015534Z
LAST-MODIFIED:20231002T015534Z
UID:535-1697180400-1697182200@sylvaniabaptistchurch.com
SUMMARY:Gameday Breakfast
DESCRIPTION:Gameday breakfast and devotion in the fellowship hall. \nAll SHS student athletes\, band\, cheer\, and coaching staff are welcome!
URL:https://sylvaniabaptistchurch.com/event/gameday-breakfast/
CATEGORIES:Ministry Opportunity,Youth Event
END:VEVENT
BEGIN:VEVENT
DTSTART;TZID=UTC:20231005T090000
DTEND;TZID=UTC:20231005T090000
DTSTAMP:20260419T140335
CREATED:20230929T195945Z
LAST-MODIFIED:20231002T013301Z
UID:509-1696496400-1696496400@sylvaniabaptistchurch.com
SUMMARY:Take a Break on Us
DESCRIPTION:‘ \nMinistry opportunity to SHS Teachers & Faculty. \nFor more information\, see Evelyn or Mrs. Dale!
URL:https://sylvaniabaptistchurch.com/event/take-a-break-on-us/
CATEGORIES:Ministry Opportunity
END:VEVENT
END:VCALENDAR